BEGIN:VCALENDAR
VERSION:2.0
PRODID:-//ChamberMaster//Event Calendar 2.0//EN
METHOD:PUBLISH
X-PUBLISHED-TTL:P3D
REFRESH-INTERVAL:P3D
CALSCALE:GREGORIAN
BEGIN:VEVENT
DTSTART:20200329T203000Z
DTEND:20200330T000000Z
X-MICROSOFT-CDO-ALLDAYEVENT:FALSE
SUMMARY:1920's Speakeasy Murder/Mystery Dinner
DESCRIPTION:Prepare for an evening you will not soon forget with a 1920's Speakeasy inspired interactive murder mystery. Dress as flappers\, mobsters\, or millionaires as you enjoy a dinner party and experience a mystery. (Dressing up is encouraged but not required). Actors from Mystery 207 will reveal clues over the course of the night as you work in teams to try to solve "who dunnit". You should keep an eye out for hints about the killer's motive and opportunity that only the guilty suspect could have. $70 includes a three course dinner\, tax & gratuity. MENU 1st Course House salad with dressing Rolls and Butter 2nd Course Choose between a meal selection of Chicken Marsala\, Tuscan Steak Tips\, or Vegetarian Pad Thai. (When ordering tickets you will have option to choose meal type) 3rd Course A delightful Chocolate Mousse coffee and tea Proceeds from this event will benefit the Webster-Dudley-Oxford Scholarship Fund. Tickets for this event must be purchased before Saturday 03/28/20.
X-ALT-DESC;FMTTYPE=text/html:Prepare for an evening you will not soon forget with a 1920&#39\;s Speakeasy inspired interactive murder mystery. Dress as flappers\, mobsters\, or millionaires as you enjoy a dinner party and experience a mystery. (Dressing up is encouraged but not required). Actors from Mystery 207 will reveal clues over the course of the night as you work in teams to try to solve &quot\;who dunnit&quot\;. You should keep an eye out for hints about the killer&#39\;s motive and opportunity that only the guilty suspect could have. $70 includes a three course dinner\, tax &amp\; gratuity. MENU 1st Course House salad with dressing Rolls and Butter 2nd Course Choose between a meal selection of Chicken Marsala\, Tuscan Steak Tips\, or Vegetarian Pad Thai. (When ordering tickets you will have option to choose meal type) 3rd Course A delightful Chocolate Mousse coffee and tea Proceeds from this event will benefit the Webster-Dudley-Oxford Scholarship Fund. Tickets for this event must be purchased before Saturday 03/28/20.
LOCATION:Samuel Slater's Resturant 200 Gore Road\, Webster\, MA\, 01570
UID:e.3486.9560
SEQUENCE:3
DTSTAMP:20260421T082700Z
URL:https://business.wdochamberma.com/events/details/1920-s-speakeasy-murder-mystery-dinner-9560
END:VEVENT

END:VCALENDAR
