BEGIN:VCALENDAR
VERSION:2.0
PRODID:-//ChamberMaster//Event Calendar 2.0//EN
METHOD:PUBLISH
X-PUBLISHED-TTL:P3D
REFRESH-INTERVAL:P3D
CALSCALE:GREGORIAN
BEGIN:VEVENT
DTSTART:20200128T220000Z
DTEND:20200129T000000Z
X-MICROSOFT-CDO-ALLDAYEVENT:FALSE
SUMMARY:2020 WDO Annual Meeting
DESCRIPTION:2020 Annual Meeting\n\nGuest Speaker Worcester Red Sox \n\nPresident Dr. Charles Steinberg
X-ALT-DESC;FMTTYPE=text/html:<span style="font-size: 16px\;"><b>2020 Annual Meeting<br />\nGuest Speaker Worcester Red Sox&nbsp\;<br />\nPresident Dr. Charles Steinberg</b></span>
LOCATION:Samuel Slater Hall @ Indian Ranch 299 Gore Road\, Webster\, MA
UID:e.3486.9548
SEQUENCE:3
DTSTAMP:20260421T095111Z
URL:https://business.wdochamberma.com/events/details/2020-wdo-annual-meeting-9548
END:VEVENT

END:VCALENDAR
