BEGIN:VCALENDAR
VERSION:2.0
PRODID:-//ChamberMaster//Event Calendar 2.0//EN
METHOD:PUBLISH
X-PUBLISHED-TTL:P3D
REFRESH-INTERVAL:P3D
CALSCALE:GREGORIAN
BEGIN:VEVENT
DTSTART:20191022T200000Z
DTEND:20191022T230000Z
X-MICROSOFT-CDO-ALLDAYEVENT:FALSE
SUMMARY:8th Annual Home & Business Expo
DESCRIPTION:8th Annual Home & Business Expo
X-ALT-DESC;FMTTYPE=text/html:<strong>8th Annual Home &amp\; Business Expo</strong>
LOCATION:Samuel Slater Hall @ Indian Ranch 200 Gore Road Webster\, MA
UID:e.3486.9533
SEQUENCE:3
DTSTAMP:20260421T112443Z
URL:https://business.wdochamberma.com/events/details/8th-annual-home-business-expo-9533
END:VEVENT

END:VCALENDAR
