BEGIN:VCALENDAR
VERSION:2.0
PRODID:-//ChamberMaster//Event Calendar 2.0//EN
METHOD:PUBLISH
X-PUBLISHED-TTL:P3D
REFRESH-INTERVAL:P3D
CALSCALE:GREGORIAN
BEGIN:VEVENT
DTSTART:20191116T010000Z
DTEND:20191116T030000Z
X-MICROSOFT-CDO-ALLDAYEVENT:FALSE
SUMMARY:A Night of Comedy with Jackie Flynn and Kevin Flynn
DESCRIPTION:A Night of Comedy with Jackie Flynn and Kevin Flynn Samuel Slater's Restaurant "Brothers From Another Mother" Doors 7:30 PM / Show 8:00 PM Join us at Samuel Slater's Restaurant for a night of comedy! Two National Headliners In One Big Show. Jackie and Kevin began their comedy careers in Boston's red hot comedy scene in the late 80's. It was not long before they were headlining comedy clubs from NY to LA. Both Kevin and Jackie have appeared in multiple Farrelly brothers movies. Jackie currently is a regular character in Peter Farrelly's TV series LOUDERMILK. Kevin\, a former professional soccer player has and ESPN/SiriusXM Podcast called Over the Ball. Kevin has also appeared with Ben Stiller in movie\, THE HEARTBREAK KID\, with Jim Carey in Me Myself and Irene and Osmosis Jones with Bill Murray. He was also ranked one of the most popular "boyfriends" on HBO's hit series SEX AND THE CITY. 21+ event Event is in the Samuel Slater's Function Hall
X-ALT-DESC;FMTTYPE=text/html:A Night of Comedy with Jackie Flynn and Kevin Flynn Samuel Slater&rsquo\;s Restaurant &quot\;Brothers From Another Mother&quot\; Doors 7:30 PM / Show 8:00 PM Join us at Samuel Slater&rsquo\;s Restaurant for a night of comedy! Two National Headliners In One Big Show. Jackie and Kevin began their comedy careers in Boston&rsquo\;s red hot comedy scene in the late 80&rsquo\;s. It was not long before they were headlining comedy clubs from NY to LA. Both Kevin and Jackie have appeared in multiple Farrelly brothers movies. Jackie currently is a regular character in Peter Farrelly&rsquo\;s TV series LOUDERMILK. Kevin\, a former professional soccer player has and ESPN/SiriusXM Podcast called Over the Ball. Kevin has also appeared with Ben Stiller in movie\, THE HEARTBREAK KID\, with Jim Carey in Me Myself and Irene and Osmosis Jones with Bill Murray. He was also ranked one of the most popular &ldquo\;boyfriends&rdquo\; on HBO&rsquo\;s hit series SEX AND THE CITY. 21+ event Event is in the Samuel Slater&rsquo\;s Function Hall
LOCATION:Samuel Slater's Restaurant
UID:e.3486.9541
SEQUENCE:3
DTSTAMP:20260423T095827Z
URL:https://business.wdochamberma.com/events/details/a-night-of-comedy-with-jackie-flynn-and-kevin-flynn-9541
END:VEVENT

END:VCALENDAR
