BEGIN:VCALENDAR
VERSION:2.0
PRODID:-//ChamberMaster//Event Calendar 2.0//EN
METHOD:PUBLISH
X-PUBLISHED-TTL:P3D
REFRESH-INTERVAL:P3D
CALSCALE:GREGORIAN
BEGIN:VEVENT
DTSTART:20200118T010000Z
DTEND:20200118T040000Z
X-MICROSOFT-CDO-ALLDAYEVENT:FALSE
SUMMARY:A Night of Comedy with Jimmy Dunn and Tony V
DESCRIPTION:"Two Boston Guys Whack Up A Pie" Opening Act: TBD Doors 7:30 PM / Show 8:00 PM Comedy Night returns to Samuel Slater's with national headliners Jimmy Dunn and Tony V. Don't miss "Two Boston Guys Whack Up A Pie!" Jimmy Dunn is an actor and stand-up comedian from Boston\, who recently co-starred on the CBS comedy "The McCarthys" as Sean McCarthy. He got his start in the comedy world telling jokes at a bar in Gloucester\, Massachusetts and has gone on to perform at some of the comedy industry's most prestigious events\, including Denis Leary's Comics Come Home\, Montreal's International Just For Laughs Comedy Festival\, and the Late Show with David Letterman. Tony V started his stand-up comedy career in 1982 after attending several shows at Boston's prestigious Comedy Connection. He has appeared on Late Night with Conan O'Brien\, Comedy Central's Tough Crowd with Colin Quinn and several sit-coms including Seinfeld\, Boston Common\, The Single Guy and Dr. Katz Professional Therapist. 21+ event
X-ALT-DESC;FMTTYPE=text/html:&ldquo\;Two Boston Guys Whack Up A Pie&rdquo\; Opening Act: TBD Doors 7:30 PM / Show 8:00 PM Comedy Night returns to Samuel Slater&#39\;s with national headliners Jimmy Dunn and Tony V. Don&#39\;t miss &quot\;Two Boston Guys Whack Up A Pie!&quot\; Jimmy Dunn is an actor and stand-up comedian from Boston\, who recently co-starred on the CBS comedy &quot\;The McCarthys&quot\; as Sean McCarthy. He got his start in the comedy world telling jokes at a bar in Gloucester\, Massachusetts and has gone on to perform at some of the comedy industry&#39\;s most prestigious events\, including Denis Leary&#39\;s Comics Come Home\, Montreal&#39\;s International Just For Laughs Comedy Festival\, and the Late Show with David Letterman. Tony V started his stand-up comedy career in 1982 after attending several shows at Boston&#39\;s prestigious Comedy Connection. He has appeared on Late Night with Conan O&#39\;Brien\, Comedy Central&#39\;s Tough Crowd with Colin Quinn and several sit-coms including Seinfeld\, Boston Common\, The Single Guy and Dr. Katz Professional Therapist. 21+ event
LOCATION:Samuel Slater's Restaurant
UID:e.3486.9551
SEQUENCE:3
DTSTAMP:20260421T112753Z
URL:https://business.wdochamberma.com/events/details/a-night-of-comedy-with-jimmy-dunn-and-tony-v-9551
END:VEVENT

END:VCALENDAR
