BEGIN:VCALENDAR
VERSION:2.0
PRODID:-//ChamberMaster//Event Calendar 2.0//EN
METHOD:PUBLISH
X-PUBLISHED-TTL:P3D
REFRESH-INTERVAL:P3D
CALSCALE:GREGORIAN
BEGIN:VEVENT
DTSTART;VALUE=DATE:20190722
DTEND;VALUE=DATE:20190803
TRANSP:TRANSPARENT
X-MICROSOFT-CDO-ALLDAYEVENT:TRUE
SUMMARY:AAA Northeast Summer Food Drive
DESCRIPTION:Summer Food drive to benefit Webster/Dudley Foodshare.  Box located in the Webster AAA branch.  Please help fill our donation box!
X-ALT-DESC;FMTTYPE=text/html:Summer Food drive to benefit Webster/Dudley Foodshare.&nbsp\; Box located in the Webster AAA branch.&nbsp\; Please help fill our donation box!
LOCATION:AAA Webster\, 400 S. Main St. Webster\, MA. 01570
UID:e.3486.9531
SEQUENCE:3
DTSTAMP:20260419T223704Z
URL:https://business.wdochamberma.com/events/details/aaa-northeast-summer-food-drive-9531
END:VEVENT

END:VCALENDAR
