BEGIN:VCALENDAR
VERSION:2.0
PRODID:-//ChamberMaster//Event Calendar 2.0//EN
METHOD:PUBLISH
X-PUBLISHED-TTL:P3D
REFRESH-INTERVAL:P3D
CALSCALE:GREGORIAN
BEGIN:VEVENT
DTSTART:20260521T010000Z
DTEND:20260521T030000Z
X-MICROSOFT-CDO-ALLDAYEVENT:FALSE
SUMMARY:AI Classed-2 Sessions May 20th / May 27th
DESCRIPTION:AI for you Business-Two 2 Hour Class Sessions\n\nIn you Office Via Zoom
X-ALT-DESC;FMTTYPE=text/html:<strong><span style="font-size:18px\;">AI for you Business-Two 2 Hour Class Sessions<br />\nIn you Office Via Zoom</span></strong>
LOCATION:You Office-Your Computer via ZOOM
UID:e.3486.9678
SEQUENCE:3
DTSTAMP:20260422T015447Z
URL:https://business.wdochamberma.com/events/details/ai-classed-2-sessions-may-20th-may-27th-9678
END:VEVENT

END:VCALENDAR
