BEGIN:VCALENDAR
VERSION:2.0
PRODID:-//ChamberMaster//Event Calendar 2.0//EN
METHOD:PUBLISH
X-PUBLISHED-TTL:P3D
REFRESH-INTERVAL:P3D
CALSCALE:GREGORIAN
BEGIN:VEVENT
DTSTART:20190610T120000Z
DTEND:20190610T230000Z
X-MICROSOFT-CDO-ALLDAYEVENT:FALSE
SUMMARY:Annual Scholarship Golf Tournament
DESCRIPTION:Annual Scholarship Golf Tournament
X-ALT-DESC;FMTTYPE=text/html:<strong><span style="font-size:12px\;">Annual Scholarship Golf Tournament</span></strong>
LOCATION:Heritge Country Club 85 Sampson Road Charlton\, MA 01507
UID:e.3486.9524
SEQUENCE:3
DTSTAMP:20260420T013841Z
URL:https://business.wdochamberma.com/events/details/annual-scholarship-golf-tournament-9524
END:VEVENT

END:VCALENDAR
