BEGIN:VCALENDAR
VERSION:2.0
PRODID:-//ChamberMaster//Event Calendar 2.0//EN
METHOD:PUBLISH
X-PUBLISHED-TTL:P3D
REFRESH-INTERVAL:P3D
CALSCALE:GREGORIAN
BEGIN:VEVENT
DTSTART:20191214T140000Z
DTEND:20191214T170000Z
X-MICROSOFT-CDO-ALLDAYEVENT:FALSE
SUMMARY:Breakfast With Santa
DESCRIPTION:Santa is returning to Samuel Slater's before his big day! Hang out with Santa on December 14th in the Samuel Slater's Function Hall for a family-friendly brunch and get your picture taken with Santa! There will even be a Bloody Mary bar for parents to enjoy. This year\, we're working with Toys for Tots Worcester MA and are inviting guests to bring a toy to help support this year's campaign! For reservations call (508)-943-1639
X-ALT-DESC;FMTTYPE=text/html:Santa is returning to Samuel Slater&#39\;s before his big day! Hang out with Santa on December 14th in the Samuel Slater&#39\;s Function Hall for a family-friendly brunch and get your picture taken with Santa! There will even be a Bloody Mary bar for parents to enjoy. This year\, we&#39\;re working with Toys for Tots Worcester MA and are inviting guests to bring a toy to help support this year&#39\;s&nbsp\;campaign! For reservations call (508)-943-1639&nbsp\;
LOCATION:Samuel Slater's Restaurant\, Webster\, MA 01570
UID:e.3486.9546
SEQUENCE:3
DTSTAMP:20260421T112108Z
URL:https://business.wdochamberma.com/events/details/breakfast-with-santa-9546
END:VEVENT

END:VCALENDAR
