BEGIN:VCALENDAR
VERSION:2.0
PRODID:-//ChamberMaster//Event Calendar 2.0//EN
METHOD:PUBLISH
X-PUBLISHED-TTL:P3D
REFRESH-INTERVAL:P3D
CALSCALE:GREGORIAN
BEGIN:VEVENT
DTSTART:20190515T120000Z
DTEND:20190515T140000Z
X-MICROSOFT-CDO-ALLDAYEVENT:FALSE
SUMMARY:Breakfast with Town Administrators
DESCRIPTION:Breakfast with Webster\, Dudley Oxford Town Administrators.
X-ALT-DESC;FMTTYPE=text/html:Breakfast with Webster\, Dudley Oxford Town Administrators.
LOCATION:Point Breeze 114 Point Breeze Road Webster\, MA 01570
UID:e.3486.9523
SEQUENCE:3
DTSTAMP:20260420T025855Z
URL:https://business.wdochamberma.com/events/details/breakfast-with-town-administrators-9523
END:VEVENT

END:VCALENDAR
