BEGIN:VCALENDAR
VERSION:2.0
PRODID:-//ChamberMaster//Event Calendar 2.0//EN
METHOD:PUBLISH
X-PUBLISHED-TTL:P3D
REFRESH-INTERVAL:P3D
CALSCALE:GREGORIAN
BEGIN:VEVENT
DTSTART:20260507T113000Z
DTEND:20260507T131500Z
X-MICROSOFT-CDO-ALLDAYEVENT:FALSE
SUMMARY:Care Central Gather & Grow Breakfast
DESCRIPTION:Care Central "Gather & Grow Breakfast"\n\nGuest Speaker-Jerry Posner
X-ALT-DESC;FMTTYPE=text/html:<strong><span style="font-size:18px\;">Care Central &quot\;Gather &amp\; Grow Breakfast&quot\;<br />\nGuest Speaker-Jerry Posner</span></strong><br />\n<br />\n<br />\n<br />\n<br />\n<br />\n<br />\n<br />\n&nbsp\;
LOCATION:J Anthony's 917 Southbridge Street\, Auburn MA
UID:e.3486.9676
SEQUENCE:3
DTSTAMP:20260422T005642Z
URL:https://business.wdochamberma.com/events/details/care-central-gather-grow-breakfast-9676
END:VEVENT

END:VCALENDAR
