BEGIN:VCALENDAR
VERSION:2.0
PRODID:-//ChamberMaster//Event Calendar 2.0//EN
METHOD:PUBLISH
X-PUBLISHED-TTL:P3D
REFRESH-INTERVAL:P3D
CALSCALE:GREGORIAN
BEGIN:VEVENT
DTSTART:20191002T210000Z
DTEND:20191002T230000Z
X-MICROSOFT-CDO-ALLDAYEVENT:FALSE
SUMMARY:Celebrate 4 Chamber Members & Chamber Office Under a New Roof
DESCRIPTION:Come Celebrate After Business Hours \n\n4 Chamber Members & The Chamber Office\n\nin a New Location \n\nUnder 1 Roof!
X-ALT-DESC;FMTTYPE=text/html:<em><strong>Come Celebrate After Business Hours&nbsp\;<br />\n4 Chamber Members &amp\; The Chamber Office<br />\nin a New Location&nbsp\;<br />\nUnder 1 Roof!</strong></em>
LOCATION:Choice1 505 South Main Street Webster\, MA
UID:e.3486.9534
SEQUENCE:3
DTSTAMP:20260421T095632Z
URL:https://business.wdochamberma.com/events/details/celebrate-4-chamber-members-chamber-office-under-a-new-roof-9534
END:VEVENT

END:VCALENDAR
