BEGIN:VCALENDAR
VERSION:2.0
PRODID:-//ChamberMaster//Event Calendar 2.0//EN
METHOD:PUBLISH
X-PUBLISHED-TTL:P3D
REFRESH-INTERVAL:P3D
CALSCALE:GREGORIAN
BEGIN:VEVENT
DTSTART:20260519T213000Z
DTEND:20260519T233000Z
X-MICROSOFT-CDO-ALLDAYEVENT:FALSE
SUMMARY:Christopher Heights Mega Networking Event
DESCRIPTION:Christopher Heights Mega Networking Event
X-ALT-DESC;FMTTYPE=text/html:<strong><span style="font-size:18px\;">Christopher Heights Mega Networking Event</span></strong>
LOCATION:Christopher Heights 338 Thompson Road Thompson\, CT
UID:e.3486.9677
SEQUENCE:3
DTSTAMP:20260422T015324Z
URL:https://business.wdochamberma.com/events/details/christopher-heights-mega-networking-event-9677
END:VEVENT

END:VCALENDAR
