BEGIN:VCALENDAR
VERSION:2.0
PRODID:-//ChamberMaster//Event Calendar 2.0//EN
METHOD:PUBLISH
X-PUBLISHED-TTL:P3D
REFRESH-INTERVAL:P3D
CALSCALE:GREGORIAN
BEGIN:VEVENT
DTSTART:20191101T113000Z
DTEND:20191101T140000Z
X-MICROSOFT-CDO-ALLDAYEVENT:FALSE
SUMMARY:First Legislative Breakfast
DESCRIPTION:WDO First Legislative Breakfast:\n\nSpeakers Congressman McGovern\, Senator Fattman\, Representatives Durant\, Frost and McKenna
X-ALT-DESC;FMTTYPE=text/html:<strong><span style="font-size:14px\;">WDO First Legislative Breakfast:<br />\nSpeakers Congressman McGovern\, Senator Fattman\, Representatives Durant\, Frost and McKenna</span></strong>
LOCATION:Point Breeze 114 Point Breeze Road Webster\, MA 01570
UID:e.3486.9539
SEQUENCE:3
DTSTAMP:20260421T095005Z
URL:https://business.wdochamberma.com/events/details/first-legislative-breakfast-9539
END:VEVENT

END:VCALENDAR
