BEGIN:VCALENDAR
VERSION:2.0
PRODID:-//ChamberMaster//Event Calendar 2.0//EN
METHOD:PUBLISH
X-PUBLISHED-TTL:P3D
REFRESH-INTERVAL:P3D
CALSCALE:GREGORIAN
BEGIN:VEVENT
DTSTART:20190917T210000Z
DTEND:20190917T230000Z
X-MICROSOFT-CDO-ALLDAYEVENT:FALSE
SUMMARY:Fun at Five Networking
DESCRIPTION:Fun at Five Networking
X-ALT-DESC;FMTTYPE=text/html:Fun at Five Networking
LOCATION:
UID:e.3486.9535
SEQUENCE:3
DTSTAMP:20260423T105950Z
URL:https://business.wdochamberma.com/events/details/fun-at-five-networking-9535
END:VEVENT

END:VCALENDAR
