BEGIN:VCALENDAR
VERSION:2.0
PRODID:-//ChamberMaster//Event Calendar 2.0//EN
METHOD:PUBLISH
X-PUBLISHED-TTL:P3D
REFRESH-INTERVAL:P3D
CALSCALE:GREGORIAN
BEGIN:VEVENT
DTSTART:20190530T140000Z
DTEND:20190530T170000Z
X-MICROSOFT-CDO-ALLDAYEVENT:FALSE
SUMMARY:Health & Wellness Fair
DESCRIPTION:A FREE event designed for Older Adults & Caregivers featuring AAA\, Central Mass Agency on Aging\, Lions Club of Millbury\, OEI CapTel Captioning Phones\, Dudley Fire\, Dudley Police\, Dudley Veteran's Agent\, Easter Seals MA\, Holden Hearing Aid Center\, Page Chiropractic\, Second Chance Animal Services (visit their mobile adoption vehicle in our parking lot)\, SHINE (Serving Health Insurance Needs of Elders)\, United Way of Webster & Dudley\, Webster Five\, Webster Dudley Oxford Chamber of Commerce\, and Webster Senior Center plus Tri-Valley programs\, screenings\, seminars and raffles.
X-ALT-DESC;FMTTYPE=text/html:A FREE event designed for Older Adults &amp\; Caregivers featuring AAA\, Central Mass Agency on Aging\, Lions Club of Millbury\, OEI CapTel Captioning Phones\, Dudley Fire\, Dudley Police\, Dudley Veteran&rsquo\;s Agent\, Easter Seals MA\, Holden Hearing Aid Center\, Page Chiropractic\, Second Chance Animal Services (visit their mobile adoption vehicle in our parking lot)\, SHINE (Serving Health Insurance Needs of Elders)\, United Way of Webster &amp\; Dudley\, Webster Five\, Webster Dudley Oxford Chamber of Commerce\, and Webster Senior Center plus Tri-Valley programs\, screenings\, seminars and raffles.
LOCATION:Tri-Valley Inc. 10 Mill Street\, Dudley\, MA
UID:e.3486.9526
SEQUENCE:3
DTSTAMP:20260420T023331Z
URL:https://business.wdochamberma.com/events/details/health-wellness-fair-9526
END:VEVENT

END:VCALENDAR
