BEGIN:VCALENDAR
VERSION:2.0
PRODID:-//ChamberMaster//Event Calendar 2.0//EN
METHOD:PUBLISH
X-PUBLISHED-TTL:P3D
REFRESH-INTERVAL:P3D
CALSCALE:GREGORIAN
BEGIN:VEVENT
DTSTART:20190613T210000Z
DTEND:20190613T233000Z
X-MICROSOFT-CDO-ALLDAYEVENT:FALSE
SUMMARY:MEGA Business After Hours - Indian Ranch
DESCRIPTION:MEGA Business After Hours - Chambers One Location
X-ALT-DESC;FMTTYPE=text/html:MEGA Business After Hours - Chambers One Location
LOCATION:Samuel Slater's @ Indian Ranch\, Webster\, MA
UID:e.3486.9527
SEQUENCE:3
DTSTAMP:20260420T013835Z
URL:https://business.wdochamberma.com/events/details/mega-business-after-hours-indian-ranch-9527
END:VEVENT

END:VCALENDAR
