BEGIN:VCALENDAR
VERSION:2.0
PRODID:-//ChamberMaster//Event Calendar 2.0//EN
METHOD:PUBLISH
X-PUBLISHED-TTL:P3D
REFRESH-INTERVAL:P3D
CALSCALE:GREGORIAN
BEGIN:VEVENT
DTSTART:20200101T010000Z
DTEND:20200101T060000Z
X-MICROSOFT-CDO-ALLDAYEVENT:FALSE
SUMMARY:New Year’s Eve at Samuel Slater’s
DESCRIPTION:Join us at Samuel Slater's for a night of revelry as we ring in 2020. Enjoy Hors D'oeuvres\, Sweet Treats\, and festive libations while we dance the night away with DJ Dave. At midnight\, we will have a Champagne toast to celebrate the New Year. ? Tickets include: Music From DJ Dave Hors D'oeuvres from Chef Keith Polaina and the staff of Samuel Slater's Sweet treat station  Welcome Punch  Champagne Toast  Party Favors  Everlasting memories ? Cocktail attire suggested: Dress to impress!
X-ALT-DESC;FMTTYPE=text/html:Join us at Samuel Slater&#39\;s for a night of revelry as we ring in 2020. Enjoy Hors D&#39\;oeuvres\, Sweet Treats\, and festive libations while we dance the night away with DJ Dave. At midnight\, we will have a Champagne toast to celebrate the New&nbsp\;Year.&nbsp\;? Tickets&nbsp\;include: Music From&nbsp\;DJ&nbsp\;Dave Hors D&#39\;oeuvres from Chef Keith Polaina and the staff of&nbsp\;Samuel&nbsp\;Slater&#39\;s Sweet treat station&nbsp\; Welcome Punch&nbsp\; Champagne Toast&nbsp\; Party Favors&nbsp\; Everlasting memories&nbsp\;? Cocktail attire suggested:&nbsp\;Dress&nbsp\;to&nbsp\;impress!
LOCATION:Samuel Slater's Restaurant 200 Gore Road Webster\, MA
UID:e.3486.9547
SEQUENCE:3
DTSTAMP:20260421T095233Z
URL:https://business.wdochamberma.com/events/details/new-year-s-eve-at-samuel-slater-s-9547
END:VEVENT

END:VCALENDAR
