BEGIN:VCALENDAR
VERSION:2.0
PRODID:-//ChamberMaster//Event Calendar 2.0//EN
METHOD:PUBLISH
X-PUBLISHED-TTL:P3D
REFRESH-INTERVAL:P3D
CALSCALE:GREGORIAN
BEGIN:VEVENT
DTSTART:20260609T113000Z
DTEND:20260609T131500Z
X-MICROSOFT-CDO-ALLDAYEVENT:FALSE
SUMMARY:Rise and Shine with Tim Liptrap
DESCRIPTION:Rise & Shine with Tim Liptrap
X-ALT-DESC;FMTTYPE=text/html:<strong><span style="font-size:18px\;">Rise &amp\; Shine with Tim Liptrap</span></strong>
LOCATION:J Anthony's Italian Grill 206 Southbridge Road\, Oxford\, MA
UID:e.3486.9679
SEQUENCE:3
DTSTAMP:20260423T004025Z
URL:https://business.wdochamberma.com/events/details/rise-and-shine-with-tim-liptrap-9679
END:VEVENT

END:VCALENDAR
