BEGIN:VCALENDAR
VERSION:2.0
PRODID:-//ChamberMaster//Event Calendar 2.0//EN
METHOD:PUBLISH
X-PUBLISHED-TTL:P3D
REFRESH-INTERVAL:P3D
CALSCALE:GREGORIAN
BEGIN:VEVENT
DTSTART:20190625T211500Z
DTEND:20190625T233000Z
X-MICROSOFT-CDO-ALLDAYEVENT:FALSE
SUMMARY:Scholarship Night-Indian Princess Lake Tour
DESCRIPTION:Meet and Congratulate the 2019 WDO Scholarship Recipients aboard\n\nthe Indian Princess on Webster Lake.
X-ALT-DESC;FMTTYPE=text/html:Meet and Congratulate the 2019 WDO Scholarship Recipients aboard<br />\nthe Indian Princess on Webster Lake.
LOCATION:Indian Ranch 200 Gore Road Webster\, MA 01570
UID:e.3486.9528
SEQUENCE:3
DTSTAMP:20260420T013723Z
URL:https://business.wdochamberma.com/events/details/scholarship-night-indian-princess-lake-tour-9528
END:VEVENT

END:VCALENDAR
