BEGIN:VCALENDAR
VERSION:2.0
PRODID:-//ChamberMaster//Event Calendar 2.0//EN
METHOD:PUBLISH
X-PUBLISHED-TTL:P3D
REFRESH-INTERVAL:P3D
CALSCALE:GREGORIAN
BEGIN:VEVENT
DTSTART:20200220T233000Z
DTEND:20200221T020000Z
X-MICROSOFT-CDO-ALLDAYEVENT:FALSE
SUMMARY:Taste of France Wine Dinner
DESCRIPTION:Join us on February 20\, 2020 as Executive Chef Keith Polaina takes us on a culinary journey showcasing wines from France. Menu to be announced soon! Tickets $65 not inclusive of tax or gratuity. Please note Meals tax and Gratuity will show up at check out as Sales Tax and Local Fee. This is a 21+ event. Valid ID Required.
X-ALT-DESC;FMTTYPE=text/html:Join us on February 20\, 2020 as Executive Chef Keith Polaina takes us on a culinary journey showcasing wines from France. Menu to be announced soon! Tickets $65 not inclusive of tax or gratuity. Please note Meals tax and Gratuity will show up at check out as Sales Tax and Local Fee. This is a 21+ event. Valid ID Required.
LOCATION:Samuel Slater's Function Hall Samuel Slater's Restaurant 200 Gore Road
UID:e.3486.9552
SEQUENCE:3
DTSTAMP:20260419T145855Z
URL:https://business.wdochamberma.com/events/details/taste-of-france-wine-dinner-9552
END:VEVENT

END:VCALENDAR
