BEGIN:VCALENDAR
VERSION:2.0
PRODID:-//ChamberMaster//Event Calendar 2.0//EN
METHOD:PUBLISH
X-PUBLISHED-TTL:P3D
REFRESH-INTERVAL:P3D
CALSCALE:GREGORIAN
BEGIN:VEVENT
DTSTART:20191212T233000Z
DTEND:20191213T020000Z
X-MICROSOFT-CDO-ALLDAYEVENT:FALSE
SUMMARY:Taste of Italy Wine Dinner
DESCRIPTION:Join us on December 12th as Executive Chef Keith Polaina and L&T Abruzzi Importers take us on a culinary journey through our favorite areas of Italy. This 5 course dinner will pair carefully selected wines with traditionally inspired dishes. MENU Charcuterie: A Selection of Italian Meats & Cheeses Wine: N.V. Gran Cuvee Serenello First Course: Scallop Crudo Fresh New Bedford Sea Scallops / Basil Oil / Cucumber Shallot Salad Wine: 2017 La Canale Pecorino Second Course: Chicken Saltimbocca Tuscan Roasted Potato / Imported DOC Prosciutto / Sage Brown Butter Sauce Wine: 2016 Parthenium Nero d'Avola & Shriaz Blend Third Course: Ossobucco alla Milanese Braised Pork Shank / Parmesan Risotto / Herb Gremolata Wine: 2015 Mammut Montepulcianno d'Abruzzo Dessert: Lemon Almond Biscotti w/ White Chocolate Marscapone Gelato Wine: Pellegrino "Golden Bubbles" Moscato Frizante Tickets $65 not inclusive of tax or gratuity. Please note Meals tax and Gratuity will show up at check out as Sales Tax and Local Fee. Menu subject to change. This is a 21+ event. Valid ID Required.
X-ALT-DESC;FMTTYPE=text/html:Join us on December 12th as Executive Chef Keith Polaina and L&amp\;T Abruzzi Importers take us on a culinary journey through our favorite areas of Italy. This 5 course dinner will pair carefully selected wines with traditionally inspired dishes. MENU Charcuterie: A Selection of Italian Meats &amp\; Cheeses Wine: N.V. Gran Cuvee Serenello First Course: Scallop Crudo Fresh New Bedford Sea Scallops / Basil Oil / Cucumber Shallot Salad Wine: 2017 La Canale Pecorino Second Course: Chicken Saltimbocca Tuscan Roasted Potato / Imported DOC Prosciutto / Sage Brown Butter Sauce Wine: 2016 Parthenium Nero d&rsquo\;Avola &amp\; Shriaz Blend Third Course: Ossobucco alla Milanese Braised Pork Shank / Parmesan Risotto / Herb Gremolata Wine: 2015 Mammut Montepulcianno d&rsquo\;Abruzzo Dessert: Lemon Almond Biscotti w/ White Chocolate Marscapone Gelato Wine: Pellegrino &ldquo\;Golden Bubbles&rdquo\; Moscato Frizante Tickets $65 not inclusive of tax or gratuity. Please note Meals tax and Gratuity will show up at check out as Sales Tax and Local Fee. Menu subject to change. This is a 21+ event. Valid ID Required.
LOCATION:Samuel Slater's Restaurant 200 Gore Road Webster\, MA 01570
UID:e.3486.9545
SEQUENCE:3
DTSTAMP:20260421T125049Z
URL:https://business.wdochamberma.com/events/details/taste-of-italy-wine-dinner-9545
END:VEVENT

END:VCALENDAR
