BEGIN:VCALENDAR
VERSION:2.0
PRODID:-//ChamberMaster//Event Calendar 2.0//EN
METHOD:PUBLISH
X-PUBLISHED-TTL:P3D
REFRESH-INTERVAL:P3D
CALSCALE:GREGORIAN
BEGIN:VEVENT
DTSTART:20200328T000000Z
DTEND:20200328T030000Z
X-MICROSOFT-CDO-ALLDAYEVENT:FALSE
SUMMARY:Three Funny Ladies
DESCRIPTION:Three Funny Ladies Comedy Night Featuring Kelly MacFarland Comedy\, Laura Severse \, and Emily Ruskowski Doors: 7:30 PM / Show: 8:00 PM Kelly MacFarland is an accomplished improviser and comedic actress. You may have seen her on The Today Show\, Comedy Central\,and NBC's Last Comic Standing. Laura Severse is a streetwise Boston native and has been featured as a Best of Boston Comic in showcases at the Comedy Scene\, Laugh Boston and Nick's Comedy Shop. Event will take place in Samuel Slater's Function Hall. This is a 21+ event. Valid ID Required.
X-ALT-DESC;FMTTYPE=text/html:Three Funny Ladies Comedy Night Featuring Kelly MacFarland Comedy\, Laura Severse \, and Emily Ruskowski Doors: 7:30 PM / Show: 8:00 PM Kelly MacFarland is an accomplished improviser and comedic actress. You may have seen her on The Today Show\, Comedy Central\,and NBC&rsquo\;s Last Comic Standing. Laura Severse is a streetwise Boston native and has been featured as a Best of Boston Comic in showcases at the Comedy Scene\, Laugh Boston and Nick&rsquo\;s Comedy Shop. Event will take place in Samuel Slater&rsquo\;s Function Hall. This is a 21+ event. Valid ID Required.
LOCATION:The Function Hall at Samuel Slater's Restaurant
UID:e.3486.9553
SEQUENCE:3
DTSTAMP:20260421T082357Z
URL:https://business.wdochamberma.com/events/details/three-funny-ladies-9553
END:VEVENT

END:VCALENDAR
