BEGIN:VCALENDAR
VERSION:2.0
PRODID:-//ChamberMaster//Event Calendar 2.0//EN
METHOD:PUBLISH
X-PUBLISHED-TTL:P3D
REFRESH-INTERVAL:P3D
CALSCALE:GREGORIAN
BEGIN:VEVENT
DTSTART:20200116T233000Z
DTEND:20200117T020000Z
X-MICROSOFT-CDO-ALLDAYEVENT:FALSE
SUMMARY:Tour of South America Wine Dinner
DESCRIPTION:Tour of South America Wine Dinner Samuel Slater's Restaurant Thursday\, January 16th 6:30 pm Experience the bold flavors of South America at the Samuel Slater's Function Hall on Thursday\, January 16th\, 2020. The menu will be curated by Executive Chef Keith Polaina and will be announced soon! Tickets $65 not inclusive of tax or gratuity. Please note Meals tax and Gratuity will show up at check out as Sales Tax and Local Fee. This is a 21+ event. Valid ID Required.
X-ALT-DESC;FMTTYPE=text/html:Tour of South America Wine Dinner Samuel Slater&rsquo\;s Restaurant Thursday\, January 16th 6:30 pm Experience the bold flavors of South America at the Samuel Slater&#39\;s Function Hall on Thursday\, January 16th\, 2020. The menu will be curated by Executive Chef Keith Polaina and will be announced soon! Tickets $65 not inclusive of tax or gratuity. Please note Meals tax and Gratuity will show up at check out as Sales Tax and Local Fee. This is a 21+ event. Valid ID Required.
LOCATION:Samuel Slater's Restaurant
UID:e.3486.9550
SEQUENCE:3
DTSTAMP:20260421T095347Z
URL:https://business.wdochamberma.com/events/details/tour-of-south-america-wine-dinner-9550
END:VEVENT

END:VCALENDAR
