BEGIN:VCALENDAR
VERSION:2.0
PRODID:-//ChamberMaster//Event Calendar 2.0//EN
METHOD:PUBLISH
X-PUBLISHED-TTL:P3D
REFRESH-INTERVAL:P3D
CALSCALE:GREGORIAN
BEGIN:VEVENT
DTSTART:20191114T233000Z
DTEND:20191115T020000Z
X-MICROSOFT-CDO-ALLDAYEVENT:FALSE
SUMMARY:Tour of Spain Wine Dinner at Samuel Slater’s Restaurant
DESCRIPTION:Tour of Spain Wine Dinner Samuel Slater's Restaurant Thursday\, November 14th 6:30 pm Come enjoy a 4 course meal designed around the flavors of Spain. Each course will be paired with a wine from various regions. Dinner to be held in the private dining room at Samuel Slater's Restaurant. Hosted by MS WALKER 21+ event Fees include meals tax and service charge
X-ALT-DESC;FMTTYPE=text/html:Tour of Spain Wine Dinner Samuel Slater&rsquo\;s Restaurant Thursday\, November 14th 6:30 pm Come enjoy a 4 course meal designed around the flavors of Spain. Each course will be paired with a wine from various regions. Dinner to be held in the private dining room at Samuel Slater&#39\;s Restaurant. Hosted by MS WALKER 21+ event Fees include meals tax and service charge
LOCATION:Samuel Slater's Restaurant 200 Gore Road Webster\, MA 01570
UID:e.3486.9540
SEQUENCE:3
DTSTAMP:20260421T095529Z
URL:https://business.wdochamberma.com/events/details/tour-of-spain-wine-dinner-at-samuel-slater-s-restaurant-9540
END:VEVENT

END:VCALENDAR
