BEGIN:VCALENDAR
VERSION:2.0
PRODID:-//ChamberMaster//Event Calendar 2.0//EN
METHOD:PUBLISH
X-PUBLISHED-TTL:P3D
REFRESH-INTERVAL:P3D
CALSCALE:GREGORIAN
BEGIN:VEVENT
DTSTART:20191203T220000Z
DTEND:20191204T000000Z
X-MICROSOFT-CDO-ALLDAYEVENT:FALSE
SUMMARY:Ugly Sweater Christmas Party
DESCRIPTION:The Ugly Sweater Christmas Party-Proceeds Donated to Toys for Tots
X-ALT-DESC;FMTTYPE=text/html:<strong><span style="font-size:14px\;">The Ugly Sweater Christmas Party-Proceeds Donated to Toys for Tots</span></strong>
LOCATION:Kretchman's 9 Frederick Street Webster\, MA
UID:e.3486.9543
SEQUENCE:3
DTSTAMP:20260421T112441Z
URL:https://business.wdochamberma.com/events/details/ugly-sweater-christmas-party-9543
END:VEVENT

END:VCALENDAR
