BEGIN:VCALENDAR
VERSION:2.0
PRODID:-//ChamberMaster//Event Calendar 2.0//EN
METHOD:PUBLISH
X-PUBLISHED-TTL:P3D
REFRESH-INTERVAL:P3D
CALSCALE:GREGORIAN
BEGIN:VEVENT
DTSTART:20190813T210000Z
DTEND:20190813T223000Z
X-MICROSOFT-CDO-ALLDAYEVENT:FALSE
SUMMARY:Vee's Furniture Business After Hours
DESCRIPTION:Vee's Furniture Business After Hours\n\nTake Advantage of the Upcoming Tax Free Weekend\, August 17 & 18\, 2019
X-ALT-DESC;FMTTYPE=text/html:Vee&#39\;s Furniture Business After Hours<br />\nTake Advantage of the Upcoming Tax Free Weekend\, August 17 &amp\; 18\, 2019<br />\n&nbsp\;
LOCATION:183 Main Steet Webster\, MA
UID:e.3486.9529
SEQUENCE:3
DTSTAMP:20260419T223647Z
URL:https://business.wdochamberma.com/events/details/vee-s-furniture-business-after-hours-9529
END:VEVENT

END:VCALENDAR
