BEGIN:VCALENDAR
VERSION:2.0
PRODID:-//ChamberMaster//Event Calendar 2.0//EN
METHOD:PUBLISH
X-PUBLISHED-TTL:P3D
REFRESH-INTERVAL:P3D
CALSCALE:GREGORIAN
BEGIN:VEVENT
DTSTART:20190917T210000Z
DTEND:20190917T230000Z
X-MICROSOFT-CDO-ALLDAYEVENT:FALSE
SUMMARY:Wine Tasting at the Black Tavern
DESCRIPTION:Wine Tasting - Marty's will be pairing Wines match to Small Bite Appetizers provided by Mexicali\, Mama's Kitchen\,Bistro Eighty Ates\, Firebrands and Jess's Sweets and Treats.
X-ALT-DESC;FMTTYPE=text/html:<strong>Wine Tasting - Marty&#39\;s will be pairing Wines match to Small Bite Appetizers provided by Mexicali\, Mama&#39\;s Kitchen\,Bistro Eighty Ates\, Firebrands and Jess&#39\;s Sweets and Treats.</strong>
LOCATION:Black Tavern Historical Society 138 Center Road Dudley\, MA
UID:e.3486.9532
SEQUENCE:3
DTSTAMP:20260423T111212Z
URL:https://business.wdochamberma.com/events/details/wine-tasting-at-the-black-tavern-9532
END:VEVENT

END:VCALENDAR
