BEGIN:VCALENDAR
VERSION:2.0
PRODID:-//ChamberMaster//Event Calendar 2.0//EN
METHOD:PUBLISH
X-PUBLISHED-TTL:P3D
REFRESH-INTERVAL:P3D
CALSCALE:GREGORIAN
BEGIN:VEVENT
DTSTART:20200312T223000Z
DTEND:20200313T010000Z
X-MICROSOFT-CDO-ALLDAYEVENT:FALSE
SUMMARY:Wormtown Brewery Beer Dinner
DESCRIPTION:Wormtown Brewery Beer Dinner 6:30 PM Join us at Samuel Slater's as we celebrate 10 years of Great Beers with our friends at Wormtown Brewery! This dinner will kick off a weekend long tap take over at the restaurant (while supplies last). Tickets are $85. Taxes and gratuity are included in price. Event is in the Samuel Slater's Function Hall. This is a 21+ event. Valid ID Required.
X-ALT-DESC;FMTTYPE=text/html:Wormtown Brewery Beer Dinner 6:30 PM Join us at Samuel Slater&#39\;s as we celebrate 10 years of Great Beers with our friends at Wormtown Brewery! This dinner will kick off a weekend long tap take over at the restaurant (while supplies last). Tickets are $85. Taxes and gratuity are included in price. Event is in the Samuel Slater&rsquo\;s Function Hall. This is a 21+ event. Valid ID Required.
LOCATION:Samuel Slater's Function Hall 200 Gore Road Webster\, MA 01570 (508) 943-1639
UID:e.3486.9558
SEQUENCE:3
DTSTAMP:20260423T082954Z
URL:https://business.wdochamberma.com/events/details/wormtown-brewery-beer-dinner-9558
END:VEVENT

END:VCALENDAR
